BEGIN:VCALENDAR
VERSION:2.0
PRODID:-//Winston Salem Flute Academy - ECPv6.15.18//NONSGML v1.0//EN
CALSCALE:GREGORIAN
METHOD:PUBLISH
X-ORIGINAL-URL:https://wsflute.com
X-WR-CALDESC:Events for Winston Salem Flute Academy
REFRESH-INTERVAL;VALUE=DURATION:PT1H
X-Robots-Tag:noindex
X-PUBLISHED-TTL:PT1H
BEGIN:VTIMEZONE
TZID:America/New_York
BEGIN:DAYLIGHT
TZOFFSETFROM:-0500
TZOFFSETTO:-0400
TZNAME:EDT
DTSTART:20250309T070000
END:DAYLIGHT
BEGIN:STANDARD
TZOFFSETFROM:-0400
TZOFFSETTO:-0500
TZNAME:EST
DTSTART:20251102T060000
END:STANDARD
BEGIN:DAYLIGHT
TZOFFSETFROM:-0500
TZOFFSETTO:-0400
TZNAME:EDT
DTSTART:20260308T070000
END:DAYLIGHT
BEGIN:STANDARD
TZOFFSETFROM:-0400
TZOFFSETTO:-0500
TZNAME:EST
DTSTART:20261101T060000
END:STANDARD
BEGIN:DAYLIGHT
TZOFFSETFROM:-0500
TZOFFSETTO:-0400
TZNAME:EDT
DTSTART:20270314T070000
END:DAYLIGHT
BEGIN:STANDARD
TZOFFSETFROM:-0400
TZOFFSETTO:-0500
TZNAME:EST
DTSTART:20271107T060000
END:STANDARD
END:VTIMEZONE
BEGIN:VEVENT
DTSTART;TZID=America/New_York:20260719T163000
DTEND;TZID=America/New_York:20260719T190000
DTSTAMP:20260423T165519
CREATED:20260414T170815Z
LAST-MODIFIED:20260414T170853Z
UID:498-1784478600-1784487600@wsflute.com
SUMMARY:Flutes\, Family\, Food\, and Fun
DESCRIPTION:An outdoor concert and potluck dinner.
URL:https://wsflute.com/event/flutes-family-food-and-fun/
LOCATION:Bolton Park\, 1590 Bolton St SW\, Winston-Salem\, NC\, 27103
ATTACH;FMTTYPE=image/jpeg:https://wsflute.com/wp-content/uploads/2024/07/ART-CRUSH-5-scaled.jpg
END:VEVENT
BEGIN:VEVENT
DTSTART;TZID=America/New_York:20260727T190000
DTEND;TZID=America/New_York:20260727T200000
DTSTAMP:20260423T165519
CREATED:20260410T181405Z
LAST-MODIFIED:20260410T181518Z
UID:495-1785178800-1785182400@wsflute.com
SUMMARY:WSYFE at Pennybyrn Retirement Community
DESCRIPTION:
URL:https://wsflute.com/event/wsyfe-at-pennybyrn-retirement-community/
LOCATION:Pennybyrn Retirement Community\, 109 Penny Road\, High Point\, NC\, 27260
ATTACH;FMTTYPE=image/jpeg:https://wsflute.com/wp-content/uploads/2024/03/WSYFE-Salemtowne-Pic.jpeg
END:VEVENT
END:VCALENDAR